BEGIN:VCALENDAR
VERSION:2.0
PRODID:http://www.golf.at/
METHOD:PUBLISH
BEGIN:VEVENT
TZID:Europe/Vienna
UID:20260420T183137@golf.at
ORGANIZER;CN=GOLF.AT:MAILTO:noreply@golf.at
LOCATION:Golfclub SternGartl
SUMMARY:TURKISH AIRLINES & Golfreisen Armbrüster Trophy 2026 powerd by Dr. Theiss
CLASS:PUBLIC
DTSTART;VALUE=DATE:20260616
DTEND;VALUE=DATE:20260617
DTSTAMP:20260420T183137
END:VEVENT
END:VCALENDAR
