BEGIN:VCALENDAR
VERSION:2.0
PRODID:http://www.golf.at/
METHOD:PUBLISH
BEGIN:VEVENT
TZID:Europe/Vienna
UID:20260421T092833@golf.at
ORGANIZER;CN=GOLF.AT:MAILTO:noreply@golf.at
LOCATION:GC St.Lorenzen
SUMMARY:Clubhousetrophy - powered by Husqvarna
CLASS:PUBLIC
DTSTART;VALUE=DATE:20260421
DTEND;VALUE=DATE:20260422
DTSTAMP:20260421T092833
END:VEVENT
END:VCALENDAR
